BEGIN:VCALENDAR
VERSION:2.0
PRODID:-//ChamberMaster//Event Calendar 2.0//EN
METHOD:PUBLISH
X-PUBLISHED-TTL:P3D
REFRESH-INTERVAL:P3D
CALSCALE:GREGORIAN
BEGIN:VEVENT
DTSTART:20260404T003000Z
DTEND:20260404T030000Z
X-MICROSOFT-CDO-ALLDAYEVENT:FALSE
SUMMARY:The Vagabond Players present Show Of Farce!
DESCRIPTION:The Vagabond Players are thrilled to present "Show of Farce!" play by Jones Hope Wooten.  \n\n\n\nThis play is the third in the "Farce" Trilogy where they Reel 'Em In\, the rustic family-owned fishing lodge on Lake Lorraine in the Ozarks.
X-ALT-DESC;FMTTYPE=text/html:The Vagabond Players are thrilled to present &quot\;Show of Farce!&quot\; play by Jones Hope Wooten.&nbsp\;&nbsp\;<br />\n<br />\nThis play is the third in the &quot\;Farce&quot\; Trilogy where they<em> Reel &#39\;Em In</em>\, the rustic family-owned fishing lodge on Lake Lorraine in the Ozarks.&nbsp\;&nbsp\;
LOCATION:Performances are on the Iris Stage at Books and Crannies located at 209 W. Moore Ave in historic downtown Terrell.
UID:e.3613.5065369
SEQUENCE:3
DTSTAMP:20260419T142254Z
URL:https://business.terrelltexas.com/events/details/the-vagabond-players-present-show-of-farce-5065369
END:VEVENT

END:VCALENDAR
