BEGIN:VCALENDAR
VERSION:2.0
PRODID:-//ChamberMaster//Event Calendar 2.0//EN
METHOD:PUBLISH
X-PUBLISHED-TTL:P3D
REFRESH-INTERVAL:P3D
CALSCALE:GREGORIAN
BEGIN:VEVENT
DTSTART:20210619T003000Z
DTEND:20210619T023000Z
X-MICROSOFT-CDO-ALLDAYEVENT:FALSE
SUMMARY:The Vagabond Players present A Doublewide Texas Christmas
DESCRIPTION:
X-ALT-DESC;FMTTYPE=text/html:
LOCATION:Performances are on the Iris Stage at Books and Crannies located at 209 W. Moore Ave in historic downtown Terrell.
UID:e.3613.5061265
SEQUENCE:3
DTSTAMP:20260421T101911Z
URL:https://business.terrelltexas.com/events/details/the-vagabond-players-present-a-doublewide-texas-christmas-5061265
END:VEVENT

END:VCALENDAR
