BEGIN:VCALENDAR
VERSION:2.0
PRODID:-//ChamberMaster//Event Calendar 2.0//EN
METHOD:PUBLISH
X-PUBLISHED-TTL:P3D
REFRESH-INTERVAL:P3D
CALSCALE:GREGORIAN
BEGIN:VEVENT
DTSTART:20240727T160000Z
DTEND:20240727T190000Z
X-MICROSOFT-CDO-ALLDAYEVENT:FALSE
SUMMARY:Special Strong Grand Opening
DESCRIPTION:Come join Special Strong in for food\, bowling\, arcade games\, prizes \,workout demonstrations and more.
X-ALT-DESC;FMTTYPE=text/html:Come join Special Strong in for food\, bowling\, arcade games\, prizes \,workout demonstrations and more.
LOCATION:Film Alley Theater in Terrell\, TX
UID:e.3613.5063661
SEQUENCE:3
DTSTAMP:20260425T212817Z
URL:https://business.terrelltexas.com/events/details/special-strong-grand-opening-5063661
END:VEVENT

END:VCALENDAR
