BEGIN:VCALENDAR
VERSION:2.0
PRODID:-//ChamberMaster//Event Calendar 2.0//EN
METHOD:PUBLISH
X-PUBLISHED-TTL:P3D
REFRESH-INTERVAL:P3D
CALSCALE:GREGORIAN
BEGIN:VEVENT
DTSTART:20250527T163000Z
DTEND:20250527T170000Z
X-MICROSOFT-CDO-ALLDAYEVENT:FALSE
SUMMARY:Ribbon Cutting for Terrell Action Committee
DESCRIPTION:Come out and welcome Terrell Action Committee to The Terrell Chamber of Commerce's
X-ALT-DESC;FMTTYPE=text/html:Come out and welcome Terrell Action Committee to The Terrell Chamber of Commerce&#39\;s
LOCATION:Terrell Action Committee 1314 W Moore Ave\, Terrell\, TX 75160
UID:e.3613.5064297
SEQUENCE:3
DTSTAMP:20260421T084736Z
URL:https://business.terrelltexas.com/events/details/ribbon-cutting-for-terrell-action-committee-5064297
END:VEVENT

END:VCALENDAR
