BEGIN:VCALENDAR
VERSION:2.0
PRODID:-//ChamberMaster//Event Calendar 2.0//EN
METHOD:PUBLISH
X-PUBLISHED-TTL:P3D
REFRESH-INTERVAL:P3D
CALSCALE:GREGORIAN
BEGIN:VEVENT
DTSTART:20250206T170000Z
DTEND:20250206T180000Z
X-MICROSOFT-CDO-ALLDAYEVENT:FALSE
SUMMARY:Ribbon Cutting for Taqueria Calentano
DESCRIPTION:Come out and welcome Taqueria Calentano to The Terrell Chamber of Commerce's
X-ALT-DESC;FMTTYPE=text/html:Come out and welcome Taqueria Calentano to The Terrell Chamber of Commerce&#39\;s
LOCATION:708 S. Virginia St. Terrell Tx\, 75160
UID:e.3613.5064205
SEQUENCE:3
DTSTAMP:20260425T132725Z
URL:https://business.terrelltexas.com/events/details/ribbon-cutting-for-taqueria-calentano-5064205
END:VEVENT

END:VCALENDAR
