BEGIN:VCALENDAR
VERSION:2.0
PRODID:-//ChamberMaster//Event Calendar 2.0//EN
METHOD:PUBLISH
X-PUBLISHED-TTL:P3D
REFRESH-INTERVAL:P3D
CALSCALE:GREGORIAN
BEGIN:VEVENT
DTSTART:20210422T163000Z
DTEND:20210422T170000Z
X-MICROSOFT-CDO-ALLDAYEVENT:FALSE
SUMMARY:Ribbon Cutting for Optimum Collision
DESCRIPTION:Come out and welcome Terrell's newest chamber member.
X-ALT-DESC;FMTTYPE=text/html:Come out and welcome Terrell&#39\;s newest chamber member.
LOCATION:1212 W. Moore Avenue\, Terrell
UID:e.3613.5061214
SEQUENCE:3
DTSTAMP:20260421T084358Z
URL:https://business.terrelltexas.com/events/details/ribbon-cutting-for-optimum-collision-5061214
END:VEVENT

END:VCALENDAR
