BEGIN:VCALENDAR
VERSION:2.0
PRODID:-//ChamberMaster//Event Calendar 2.0//EN
METHOD:PUBLISH
X-PUBLISHED-TTL:P3D
REFRESH-INTERVAL:P3D
CALSCALE:GREGORIAN
BEGIN:VEVENT
DTSTART:20221108T173000Z
DTEND:20221108T180000Z
X-MICROSOFT-CDO-ALLDAYEVENT:FALSE
SUMMARY:Ribbon Cutting for Kinky Sleek Barber & Beauty Bar/Boutique AND A Better Choice Tax Services
DESCRIPTION:Come out and welcome Terrell's newest chamber members.
X-ALT-DESC;FMTTYPE=text/html:Come out and welcome Terrell&#39\;s newest chamber members.
LOCATION:702 W. Moore St\, Suite 102
UID:e.3613.5062889
SEQUENCE:3
DTSTAMP:20260421T171121Z
URL:https://business.terrelltexas.com/events/details/ribbon-cutting-for-kinky-sleek-barber-beauty-bar-boutique-and-a-better-choice-tax-services-5062889
END:VEVENT

END:VCALENDAR
