BEGIN:VCALENDAR
VERSION:2.0
PRODID:-//ChamberMaster//Event Calendar 2.0//EN
METHOD:PUBLISH
X-PUBLISHED-TTL:P3D
REFRESH-INTERVAL:P3D
CALSCALE:GREGORIAN
BEGIN:VEVENT
DTSTART:20241014T130000Z
DTEND:20241018T213000Z
X-MICROSOFT-CDO-ALLDAYEVENT:FALSE
SUMMARY:Not Alone: Working Together in the Fight Against Human Trafficking
DESCRIPTION:Not Alone: Working together in the fight against human trafficking\, presented in both English and Spanish\, this self guided audio tour offers original videos featuring survivors and advocates.
X-ALT-DESC;FMTTYPE=text/html:Not Alone: Working together in the fight against human trafficking\, presented in both English and Spanish\, this self guided audio tour offers original videos featuring survivors and advocates.
LOCATION:Trinity Valley Community College 100 Cardinal Dr. Athens\, TX\,75751
UID:e.3613.5063725
SEQUENCE:3
DTSTAMP:20260421T032636Z
URL:https://business.terrelltexas.com/events/details/not-alone-working-together-in-the-fight-against-human-trafficking-5063725
END:VEVENT

END:VCALENDAR
