BEGIN:VCALENDAR
VERSION:2.0
PRODID:-//ChamberMaster//Event Calendar 2.0//EN
METHOD:PUBLISH
X-PUBLISHED-TTL:P3D
REFRESH-INTERVAL:P3D
CALSCALE:GREGORIAN
BEGIN:VEVENT
DTSTART:20210826T220000Z
DTEND:20210826T233000Z
X-MICROSOFT-CDO-ALLDAYEVENT:FALSE
SUMMARY:Mixer at The Shops at Terrell
DESCRIPTION:Join us for an after-hours networking mixer at The Shops at Terrell.
X-ALT-DESC;FMTTYPE=text/html:Join us for an after-hours networking mixer at The Shops at Terrell.
LOCATION:Located at 301 Tanger Dr\, Suite 108 - Terrell.
UID:e.3613.5061365
SEQUENCE:3
DTSTAMP:20260425T001120Z
URL:https://business.terrelltexas.com/events/details/mixer-at-the-shops-at-terrell-5061365
END:VEVENT

END:VCALENDAR
