BEGIN:VCALENDAR
VERSION:2.0
PRODID:-//ChamberMaster//Event Calendar 2.0//EN
METHOD:PUBLISH
X-PUBLISHED-TTL:P3D
REFRESH-INTERVAL:P3D
CALSCALE:GREGORIAN
BEGIN:VEVENT
DTSTART:20240816T130000Z
DTEND:20240816T170000Z
X-MICROSOFT-CDO-ALLDAYEVENT:FALSE
SUMMARY:Lone Star Clays for Casa
DESCRIPTION:
X-ALT-DESC;FMTTYPE=text/html:
LOCATION:Texas Gun Ranch
UID:e.3613.5063641
SEQUENCE:3
DTSTAMP:20260421T084407Z
URL:https://business.terrelltexas.com/events/details/lone-star-clays-for-casa-5063641
END:VEVENT

END:VCALENDAR
