BEGIN:VCALENDAR
VERSION:2.0
PRODID:-//ChamberMaster//Event Calendar 2.0//EN
METHOD:PUBLISH
X-PUBLISHED-TTL:P3D
REFRESH-INTERVAL:P3D
CALSCALE:GREGORIAN
BEGIN:VEVENT
DTSTART:20260401T160000Z
DTEND:20260401T170000Z
X-MICROSOFT-CDO-ALLDAYEVENT:FALSE
SUMMARY:Launch Your Business with Customer-Focused Marketing - Grow with Google
DESCRIPTION:Launch Your Business with Customer-Focused Marketing - Grow with Google\n\nWednesday\, April 1st 11:00-12:00 pm CT\n\nREGISTRATION LINK:\n\nhttps://us06web.zoom.us/meeting/register/VPP0TqjpRRGOVKBlm0I96Q\n\nHaving a great product isn't enough-you need the right message\, aimed at the right audience\, delivered with purpose.  This session is built for new entrepreneurs who want to launch with clarity\, connect meaningfully\, and build real loyalty from day one. Forget complicated funnels and cookie-cutter templates. In this workshop\, you'll learn how to build a brand customers believe in and come back for.\n\nWhat You'll Learn:\n\n  How to create a compelling\, trust-building brand from scratch\n\n  Ways to define your target audience and speak their language\n\n  What it takes to convert curious visitors into committed customers\n\n  How to turn one-time buyers into loyal advocates\n\n  Built for:\n\n  First-time founders and solopreneurs launching their business\n\n  New entrepreneurs who want to market smarter\, not just louder\n\n  Anyone who wants to lead with value\, connection\, and clarity
X-ALT-DESC;FMTTYPE=text/html:<h2 data-ogsb="white" data-ogsc="" style="margin: 8pt 0in 4pt\; line-height: 24.5333px\; break-after: avoid\; font-size: 16pt\; font-family: &quot\;Aptos Display&quot\;\, sans-serif\; color: rgb(15\, 71\, 97)\; background-image: initial\; background-position: initial\; background-size: initial\; background-repeat: initial\; background-attachment: initial\; background-origin: initial\; background-clip: initial\;"><b data-ogsc=""><span data-ogsc="rgb(175\, 88\, 80)" data-olk-copy-source="MessageBody" style="border: 0px\; font: inherit\; margin: 0px\; padding: 0px\; vertical-align: baseline\; color: rgb(175\, 88\, 80) !important\;">Launch Your Business with Customer-Focused Marketing -&nbsp\;</span></b><b data-ogsc=""><span data-ogsc="rgb(34\, 34\, 34)" style="border: 0px\; font: inherit\; margin: 0px\; padding: 0px\; vertical-align: baseline\; color: rgb(34\, 34\, 34) !important\;">Grow with Google</span></b></h2>\n\n<p class="x_MsoNormal" style="margin: 0in\; font-size: 12pt\; font-family: Aptos\, sans-serif\; color: rgb(0\, 0\, 0)\; line-height: 21.6px\;"><span data-ogsb="white" style="border: 0px\; font: inherit\; margin: 0px\; padding: 0px\; vertical-align: baseline\; color: inherit\; background-image: initial\; background-position: initial\; background-size: initial\; background-repeat: initial\; background-attachment: initial\; background-origin: initial\; background-clip: initial\;">Wednesday\, April 1st 11:00-12:00 pm CT</span></p>\n\n<p class="x_MsoNormal" style="margin: 0in\; font-size: 12pt\; font-family: Aptos\, sans-serif\; color: rgb(0\, 0\, 0)\;">REGISTRATION LINK:</p>\n\n<p class="x_MsoNormal" style="margin: 0in\; font-size: 12pt\; font-family: Aptos\, sans-serif\; color: rgb(0\, 0\, 0)\;"><a data-auth="NotApplicable" data-linkindex="0" data-ogsc="" href="https://linkprotect.cudasvc.com/url?a=https%3a%2f%2fus06web.zoom.us%2fmeeting%2fregister%2fVPP0TqjpRRGOVKBlm0I96Q&amp\;c=E\,1\,thvsj_IctR1ep3IROl7_DhOlvzM9ieO-EM1AMPNwpc5nYCZkP_BvC1RSazoWkA42ZneXw0jkaG8k2cIYybiLB9hiEGJEnwq6UXFxuDgZpw\,\,&amp\;typo=1" style="border: 0px\; font: inherit\; margin: 0px\; padding: 0px\; vertical-align: baseline\; color: rgb(70\, 120\, 134)\;" title="https://linkprotect.cudasvc.com/url?a=https%3a%2f%2fus06web.zoom.us%2fmeeting%2fregister%2fVPP0TqjpRRGOVKBlm0I96Q&amp\;c=E\,1\,thvsj_IctR1ep3IROl7_DhOlvzM9ieO-EM1AMPNwpc5nYCZkP_BvC1RSazoWkA42ZneXw0jkaG8k2cIYybiLB9hiEGJEnwq6UXFxuDgZpw\,\,&amp\;typo=1"><span data-ogsc="rgb(17\, 85\, 204)" style="border: 0px\; font: inherit\; margin: 0px\; padding: 0px\; vertical-align: baseline\; color: rgb(17\, 85\, 204) !important\;">https://us06web.zoom.us/meeting/register/VPP0TqjpRRGOVKBlm0I96Q</span></a></p>\n\n<p class="x_MsoNormal" data-ogsb="white" style="margin: 0in 0in 12pt\; font-size: 12pt\; font-family: Aptos\, sans-serif\; color: rgb(0\, 0\, 0)\; background-image: initial\; background-position: initial\; background-size: initial\; background-repeat: initial\; background-attachment: initial\; background-origin: initial\; background-clip: initial\;"><span data-ogsb="white" data-ogsc="rgb(35\, 35\, 51)" style="border: 0px\; font-style: inherit\; font-variant: inherit\; font-weight: inherit\; font-stretch: inherit\; font-size: 10.5pt\; line-height: inherit\; font-family: inherit\; font-optical-sizing: inherit\; font-size-adjust: inherit\; font-kerning: inherit\; font-feature-settings: inherit\; font-variation-settings: inherit\; font-language-override: inherit\; margin: 0px\; padding: 0px\; vertical-align: baseline\; background-image: initial\; background-position: initial\; background-size: initial\; background-repeat: initial\; background-attachment: initial\; background-origin: initial\; background-clip: initial\; color: rgb(35\, 35\, 51) !important\;">Having a great product isn&rsquo\;t enough-you need the right message\, aimed at the right audience\, delivered with purpose.&nbsp\; This session is built for new entrepreneurs who want to launch with clarity\, connect meaningfully\, and build real loyalty from day one. Forget complicated funnels and cookie-cutter templates. In this workshop\, you&#39\;ll learn how to build a brand customers believe in and come back for.</span></p>\n\n<p class="x_MsoNormal" data-ogsb="white" style="margin: 0in 0in 12pt\; font-size: 12pt\; font-family: Aptos\, sans-serif\; color: rgb(0\, 0\, 0)\; background-image: initial\; background-position: initial\; background-size: initial\; background-repeat: initial\; background-attachment: initial\; background-origin: initial\; background-clip: initial\;"><b><span data-ogsb="white" data-ogsc="rgb(35\, 35\, 51)" style="border: 0px\; font-style: inherit\; font-variant: inherit\; font-weight: inherit\; font-stretch: inherit\; font-size: 10.5pt\; line-height: inherit\; font-family: inherit\; font-optical-sizing: inherit\; font-size-adjust: inherit\; font-kerning: inherit\; font-feature-settings: inherit\; font-variation-settings: inherit\; font-language-override: inherit\; margin: 0px\; padding: 0px\; vertical-align: baseline\; background-image: initial\; background-position: initial\; background-size: initial\; background-repeat: initial\; background-attachment: initial\; background-origin: initial\; background-clip: initial\; color: rgb(35\, 35\, 51) !important\;">What You&rsquo\;ll Learn:</span></b><br />\n<span data-ogsb="white" data-ogsc="rgb(35\, 35\, 51)" style="border: 0px\; font-style: inherit\; font-variant: inherit\; font-weight: inherit\; font-stretch: inherit\; font-size: 10.5pt\; line-height: inherit\; font-family: &quot\;Segoe UI Emoji&quot\;\, sans-serif\, serif\, EmojiFont\; font-optical-sizing: inherit\; font-size-adjust: inherit\; font-kerning: inherit\; font-feature-settings: inherit\; font-variation-settings: inherit\; font-language-override: inherit\; margin: 0px\; padding: 0px\; vertical-align: baseline\; background-image: initial\; background-position: initial\; background-size: initial\; background-repeat: initial\; background-attachment: initial\; background-origin: initial\; background-clip: initial\; color: rgb(35\, 35\, 51) !important\;">&#9989\;</span><span data-ogsb="white" data-ogsc="rgb(35\, 35\, 51)" style="border: 0px\; font-style: inherit\; font-variant: inherit\; font-weight: inherit\; font-stretch: inherit\; font-size: 10.5pt\; line-height: inherit\; font-family: &quot\;Arial Unicode MS&quot\;\, serif\, serif\, EmojiFont\; font-optical-sizing: inherit\; font-size-adjust: inherit\; font-kerning: inherit\; font-feature-settings: inherit\; font-variation-settings: inherit\; font-language-override: inherit\; margin: 0px\; padding: 0px\; vertical-align: baseline\; background-image: initial\; background-position: initial\; background-size: initial\; background-repeat: initial\; background-attachment: initial\; background-origin: initial\; background-clip: initial\; color: rgb(35\, 35\, 51) !important\;">&nbsp\;How to create a compelling\, trust-building brand from scratch</span><br />\n<span data-ogsb="white" data-ogsc="rgb(35\, 35\, 51)" style="border: 0px\; font-style: inherit\; font-variant: inherit\; font-weight: inherit\; font-stretch: inherit\; font-size: 10.5pt\; line-height: inherit\; font-family: &quot\;Segoe UI Emoji&quot\;\, sans-serif\, serif\, EmojiFont\; font-optical-sizing: inherit\; font-size-adjust: inherit\; font-kerning: inherit\; font-feature-settings: inherit\; font-variation-settings: inherit\; font-language-override: inherit\; margin: 0px\; padding: 0px\; vertical-align: baseline\; background-image: initial\; background-position: initial\; background-size: initial\; background-repeat: initial\; background-attachment: initial\; background-origin: initial\; background-clip: initial\; color: rgb(35\, 35\, 51) !important\;">&#9989\;</span><span data-ogsb="white" data-ogsc="rgb(35\, 35\, 51)" style="border: 0px\; font-style: inherit\; font-variant: inherit\; font-weight: inherit\; font-stretch: inherit\; font-size: 10.5pt\; line-height: inherit\; font-family: &quot\;Arial Unicode MS&quot\;\, serif\, serif\, EmojiFont\; font-optical-sizing: inherit\; font-size-adjust: inherit\; font-kerning: inherit\; font-feature-settings: inherit\; font-variation-settings: inherit\; font-language-override: inherit\; margin: 0px\; padding: 0px\; vertical-align: baseline\; background-image: initial\; background-position: initial\; background-size: initial\; background-repeat: initial\; background-attachment: initial\; background-origin: initial\; background-clip: initial\; color: rgb(35\, 35\, 51) !important\;">&nbsp\;Ways to define your target audience and speak their language</span><br />\n<span data-ogsb="white" data-ogsc="rgb(35\, 35\, 51)" style="border: 0px\; font-style: inherit\; font-variant: inherit\; font-weight: inherit\; font-stretch: inherit\; font-size: 10.5pt\; line-height: inherit\; font-family: &quot\;Segoe UI Emoji&quot\;\, sans-serif\, serif\, EmojiFont\; font-optical-sizing: inherit\; font-size-adjust: inherit\; font-kerning: inherit\; font-feature-settings: inherit\; font-variation-settings: inherit\; font-language-override: inherit\; margin: 0px\; padding: 0px\; vertical-align: baseline\; background-image: initial\; background-position: initial\; background-size: initial\; background-repeat: initial\; background-attachment: initial\; background-origin: initial\; background-clip: initial\; color: rgb(35\, 35\, 51) !important\;">&#9989\;</span><span data-ogsb="white" data-ogsc="rgb(35\, 35\, 51)" style="border: 0px\; font-style: inherit\; font-variant: inherit\; font-weight: inherit\; font-stretch: inherit\; font-size: 10.5pt\; line-height: inherit\; font-family: &quot\;Arial Unicode MS&quot\;\, serif\, serif\, EmojiFont\; font-optical-sizing: inherit\; font-size-adjust: inherit\; font-kerning: inherit\; font-feature-settings: inherit\; font-variation-settings: inherit\; font-language-override: inherit\; margin: 0px\; padding: 0px\; vertical-align: baseline\; background-image: initial\; background-position: initial\; background-size: initial\; background-repeat: initial\; background-attachment: initial\; background-origin: initial\; background-clip: initial\; color: rgb(35\, 35\, 51) !important\;">&nbsp\;What it takes to convert curious visitors into committed customers</span><br />\n<span data-ogsb="white" data-ogsc="rgb(35\, 35\, 51)" style="border: 0px\; font-style: inherit\; font-variant: inherit\; font-weight: inherit\; font-stretch: inherit\; font-size: 10.5pt\; line-height: inherit\; font-family: &quot\;Segoe UI Emoji&quot\;\, sans-serif\, serif\, EmojiFont\; font-optical-sizing: inherit\; font-size-adjust: inherit\; font-kerning: inherit\; font-feature-settings: inherit\; font-variation-settings: inherit\; font-language-override: inherit\; margin: 0px\; padding: 0px\; vertical-align: baseline\; background-image: initial\; background-position: initial\; background-size: initial\; background-repeat: initial\; background-attachment: initial\; background-origin: initial\; background-clip: initial\; color: rgb(35\, 35\, 51) !important\;">&#9989\;</span><span data-ogsb="white" data-ogsc="rgb(35\, 35\, 51)" style="border: 0px\; font-style: inherit\; font-variant: inherit\; font-weight: inherit\; font-stretch: inherit\; font-size: 10.5pt\; line-height: inherit\; font-family: &quot\;Arial Unicode MS&quot\;\, serif\, serif\, EmojiFont\; font-optical-sizing: inherit\; font-size-adjust: inherit\; font-kerning: inherit\; font-feature-settings: inherit\; font-variation-settings: inherit\; font-language-override: inherit\; margin: 0px\; padding: 0px\; vertical-align: baseline\; background-image: initial\; background-position: initial\; background-size: initial\; background-repeat: initial\; background-attachment: initial\; background-origin: initial\; background-clip: initial\; color: rgb(35\, 35\, 51) !important\;">&nbsp\;How to turn one-time buyers into loyal advocates</span></p>\n\n<p class="x_MsoNormal" data-ogsb="white" style="margin: 0in 0in 12pt\; font-size: 12pt\; font-family: Aptos\, sans-serif\; color: rgb(0\, 0\, 0)\; background-image: initial\; background-position: initial\; background-size: initial\; background-repeat: initial\; background-attachment: initial\; background-origin: initial\; background-clip: initial\;"><span data-ogsb="white" data-ogsc="rgb(35\, 35\, 51)" style="border: 0px\; font-style: inherit\; font-variant: inherit\; font-weight: inherit\; font-stretch: inherit\; font-size: 10.5pt\; line-height: inherit\; font-family: &quot\;Segoe UI Emoji&quot\;\, sans-serif\, serif\, EmojiFont\; font-optical-sizing: inherit\; font-size-adjust: inherit\; font-kerning: inherit\; font-feature-settings: inherit\; font-variation-settings: inherit\; font-language-override: inherit\; margin: 0px\; padding: 0px\; vertical-align: baseline\; background-image: initial\; background-position: initial\; background-size: initial\; background-repeat: initial\; background-attachment: initial\; background-origin: initial\; background-clip: initial\; color: rgb(35\, 35\, 51) !important\;">&#128204\;</span><span data-ogsb="white" data-ogsc="rgb(35\, 35\, 51)" style="border: 0px\; font-style: inherit\; font-variant: inherit\; font-weight: inherit\; font-stretch: inherit\; font-size: 10.5pt\; line-height: inherit\; font-family: inherit\; font-optical-sizing: inherit\; font-size-adjust: inherit\; font-kerning: inherit\; font-feature-settings: inherit\; font-variation-settings: inherit\; font-language-override: inherit\; margin: 0px\; padding: 0px\; vertical-align: baseline\; background-image: initial\; background-position: initial\; background-size: initial\; background-repeat: initial\; background-attachment: initial\; background-origin: initial\; background-clip: initial\; color: rgb(35\, 35\, 51) !important\;">&nbsp\;<b data-ogsc="">Built for:</b><br />\n&bull\; First-time founders and solopreneurs launching their business<br />\n&bull\; New entrepreneurs who want to market smarter\, not just louder<br />\n&bull\; Anyone who wants to lead with value\, connection\, and clarity</span></p>\n
LOCATION:REGISTRATION LINK: https://us06web.zoom.us/meeting/register/VPP0TqjpRRGOVKBlm0I96Q
UID:e.3613.5065362
SEQUENCE:3
DTSTAMP:20260421T084924Z
URL:https://business.terrelltexas.com/events/details/launch-your-business-with-customer-focused-marketing-grow-with-google-5065362
END:VEVENT

END:VCALENDAR
