BEGIN:VCALENDAR
VERSION:2.0
PRODID:-//ChamberMaster//Event Calendar 2.0//EN
METHOD:PUBLISH
X-PUBLISHED-TTL:P3D
REFRESH-INTERVAL:P3D
CALSCALE:GREGORIAN
BEGIN:VEVENT
DTSTART:20260413T163000Z
DTEND:20260413T180000Z
X-MICROSOFT-CDO-ALLDAYEVENT:FALSE
SUMMARY:Design Like a Pro: Canva for Business Lunch & Learn
DESCRIPTION:Join us for a practical Lunch & Learn Canva Professional Class designed to help you create eye-catching graphics for your business\, social media\, and marketing materials. Edwin Crittendon II with Prairie View A&M University will guide participants through helpful Canva tools\, design tips\, and simple strategies to elevate your brand while saving time. Whether you are just getting started or want to sharpen your skills\, this class will give you the confidence to create professional-looking visuals for your business. Bring your laptop and come ready to learn\, create\, and connect.
X-ALT-DESC;FMTTYPE=text/html:Join us for a practical <strong>Lunch &amp\; Learn Canva Professional Class</strong> designed to help you create eye-catching graphics for your business\, social media\, and marketing materials. Edwin Crittendon II with Prairie View A&amp\;M University will guide participants through helpful Canva tools\, design tips\, and simple strategies to elevate your brand while saving time. Whether you are just getting started or want to sharpen your skills\, this class will give you the confidence to create professional-looking visuals for your business. Bring your laptop and come ready to learn\, create\, and connect.
LOCATION:Zoom
UID:e.3613.5065373
SEQUENCE:3
DTSTAMP:20260421T112751Z
URL:https://business.terrelltexas.com/events/details/design-like-a-pro-canva-for-business-lunch-learn-5065373
END:VEVENT

END:VCALENDAR
