BEGIN:VCALENDAR
VERSION:2.0
PRODID:-//ChamberMaster//Event Calendar 2.0//EN
METHOD:PUBLISH
X-PUBLISHED-TTL:P3D
REFRESH-INTERVAL:P3D
CALSCALE:GREGORIAN
BEGIN:VEVENT
DTSTART:20251103T173000Z
DTEND:20251103T190000Z
X-MICROSOFT-CDO-ALLDAYEVENT:FALSE
SUMMARY:Chamber Membership Luncheon
DESCRIPTION:Join us as Chris Mickler with Money & Law shares practical\, real-world insights on estate planning what it is\, why it matters\, and how to make sure your affairs are in order. You'll learn how to add valuable tools to your financial "toolbelt\," from wills and trusts to powers of attorney\, and how knowledge + action   fear when planning for the future. It's not just about assets it's about peace of mind for you and your loved ones.\n\n\n\nChamber Membership Luncheons are a fantastic opportunity for our members! Held at 11:30 a.m. these meetings are open to all members\, offering a platform for updates on projects and activities from our executive committee\, key community leaders\, and members alike. New members are encouraged to introduce themselves\, making it an excellent venue to forge new connections and renew existing ones with fellow professionals.
X-ALT-DESC;FMTTYPE=text/html:<div><span style="font-size:12px\;"><span style="font-family:times new roman\;">Join us&nbsp\;as Chris Mickler with M</span></span><span style="font-size:12px\;"><span style="font-family:times new roman\;">oney &amp\; Law&nbsp\;shares practical\, real-world insights on estate planning&mdash\;what it is\, why it matters\, and how to make sure your affairs are in order. You&rsquo\;ll learn how to add valuable tools to your financial &ldquo\;toolbelt\,&rdquo\; from wills and trusts to powers of attorney\, and how knowledge + action &gt\; fear&nbsp\;when planning for the future. It&rsquo\;s not just about assets&mdash\;it&rsquo\;s about peace of mind for you and your loved ones.<br />\n<br />\n<span style="color: rgb(13\, 13\, 13)\; white-space-collapse: preserve\;">Chamber Membership Luncheons are a fantastic opportunity for our members! Held at 11:30 a.m. these meetings are open to all members\, offering a platform for updates on projects and activities from our executive committee\, key community leaders\, and members alike. New members are encouraged to introduce themselves\, making it an excellent venue to forge new connections and renew existing ones with fellow professionals.</span></span></span></div>\n
LOCATION:Rockwall & Brin Church of Christ 407 N Rockwall Ave\, Terrell\, TX 75160
UID:e.3613.5064186
SEQUENCE:3
DTSTAMP:20260425T014732Z
URL:https://business.terrelltexas.com/events/details/chamber-membership-luncheon-5064186
END:VEVENT

END:VCALENDAR
