BEGIN:VCALENDAR
VERSION:2.0
PRODID:-//ChamberMaster//Event Calendar 2.0//EN
METHOD:PUBLISH
X-PUBLISHED-TTL:P3D
REFRESH-INTERVAL:P3D
CALSCALE:GREGORIAN
BEGIN:VEVENT
DTSTART:20240405T163000Z
DTEND:20240405T173000Z
X-MICROSOFT-CDO-ALLDAYEVENT:FALSE
SUMMARY:CANCLED:Ribbon Cutting for BELL Counseling Center
DESCRIPTION:Come out and welcome Terrell's newest chamber member.
X-ALT-DESC;FMTTYPE=text/html:Come out and welcome Terrell&#39\;s newest chamber member.
LOCATION:617 W. Moore Avenue Suite D Terrell\, TX\, 75160
UID:e.3613.5063553
SEQUENCE:3
DTSTAMP:20260420T142330Z
URL:https://business.terrelltexas.com/events/details/cancled-ribbon-cutting-for-bell-counseling-center-5063553
END:VEVENT

END:VCALENDAR
