BEGIN:VCALENDAR
VERSION:2.0
PRODID:-//ChamberMaster//Event Calendar 2.0//EN
METHOD:PUBLISH
X-PUBLISHED-TTL:P3D
REFRESH-INTERVAL:P3D
CALSCALE:GREGORIAN
BEGIN:VEVENT
DTSTART:20250211T230000Z
DTEND:20250212T040000Z
X-MICROSOFT-CDO-ALLDAYEVENT:FALSE
SUMMARY:Bowling for Candeezy
DESCRIPTION:Benefiting the family of Terrell Police Officer Jacob Candanoza E.O.W. 12/08/2024\n\n\n\nSponsorship Opportunities\n\n\n\nChief Sponsorship - $10\,000\n\nCompany signage at entry to event\, 10x10 space for company promotional materials in foyer\, social media mentions and a four man team entry for owling\, signage in bowling area.\n\n\n\nCaptain Sponsorship - $7\,500\n\nCompany signage at entry to event\, table in foyer for promotional items\, social media mentions and a four man team entry for bowling\, signage in bowling area.\n\n\n\nLieutenant Sponsorship - $5\,000\n\nCompany signage at entry to event\, social media mentions and a four man team entry for bowling\, signage in bowling area.\n\n\n\nSergeant Sponsorship - $2\,500\n\nSocial media mentions and a four man team entry for bowling\, signage in bowling area.\n\n\n\n100% of proceeds go to the family\n\nChecks should be payable to: Jacob Candanoza Memorial Fund
X-ALT-DESC;FMTTYPE=text/html:Benefiting the family of Terrell Police Officer Jacob Candanoza E.O.W. 12/08/2024<br />\n<br />\n<strong>Sponsorship Opportunities</strong><br />\n<br />\n<strong>Chief Sponsorship - $10\,000</strong><br />\nCompany signage at entry to event\, 10x10 space for company promotional materials in foyer\, social media mentions and a four man team entry for owling\, signage in bowling area.<br />\n<br />\n<strong>Captain Sponsorship - $7\,500</strong><br />\nCompany signage at entry to event\, table in foyer for promotional items\, social media mentions and a four man team entry for bowling\, signage in bowling area.<br />\n<br />\n<strong>Lieutenant Sponsorship - $5\,000</strong><br />\nCompany signage at entry to event\, social media mentions and a four man team entry for bowling\, signage in bowling area.<br />\n<br />\n<strong>Sergeant Sponsorship - $2\,500</strong><br />\nSocial media mentions and a four man team entry for bowling\, signage in bowling area.<br />\n<br />\n100% of proceeds go to the family<br />\nChecks should be payable to: Jacob Candanoza Memorial Fund<br />\n&nbsp\;
LOCATION:Film Alley 750 American Way Terrell\, Tx 75160
UID:e.3613.5064204
SEQUENCE:3
DTSTAMP:20260420T040932Z
URL:https://business.terrelltexas.com/events/details/bowling-for-candeezy-5064204
END:VEVENT

END:VCALENDAR
