BEGIN:VCALENDAR
VERSION:2.0
PRODID:-//ChamberMaster//Event Calendar 2.0//EN
METHOD:PUBLISH
X-PUBLISHED-TTL:P3D
REFRESH-INTERVAL:P3D
CALSCALE:GREGORIAN
BEGIN:VEVENT
DTSTART:20231207T233000Z
DTEND:20231208T010000Z
X-MICROSOFT-CDO-ALLDAYEVENT:FALSE
SUMMARY:ANBTX Holiday Open House
DESCRIPTION:Thursday\, December 7th at 5:30 pm\n\nfor the annual\n\nAmerican National Bank of Texas\n\nHoliday Open House.\n\n102 W. Moore Ave.\n\nTerrell\, Texas\n\nWe would be delighted for you to join us.
X-ALT-DESC;FMTTYPE=text/html:<blockquote style="color:rgb(34\, 34\, 34)\;font-family:Arial\, Helvetica\, sans-serif\;font-size:small\;font-style:normal\;" type="cite">\n<div dir="ltr">\n<div>\n<blockquote style="border-left-width:1px\;padding-left:1ex\;">\n<div><span style="font-family:cambria\,serif\;"><span style="font-size:14pt\;">Thursday\, December 7<sup>th</sup>&nbsp\;at 5:30 pm</span></span><br />\n<span style="font-family:cambria\,serif\;"><span style="font-size:14pt\;">for the annual</span></span><br />\n<span style="font-family:cambria\,serif\;"><span style="font-size:14pt\;">American National Bank of Texas</span></span><br />\n<span style="font-family:cambria\,serif\;"><span style="font-size:14pt\;">Holiday Open House.</span></span><br />\n<span style="font-family:cambria\,serif\;"><span style="font-size:14pt\;">102 W. Moore Ave.</span></span><br />\n<span style="font-family:cambria\,serif\;"><span style="font-size:14pt\;">Terrell\, Texas</span></span><br />\n<span style="font-family:cambria\,serif\;"><span style="font-size:14pt\;">We would be delighted for you to join us.</span></span></div>\n</blockquote>\n</div>\n</div>\n</blockquote>\n
LOCATION:
UID:e.3613.5063478
SEQUENCE:3
DTSTAMP:20260420T111735Z
URL:https://business.terrelltexas.com/events/details/anbtx-holiday-open-house-5063478
END:VEVENT

END:VCALENDAR
