BEGIN:VCALENDAR
VERSION:2.0
PRODID:-//ChamberMaster//Event Calendar 2.0//EN
METHOD:PUBLISH
X-PUBLISHED-TTL:P3D
REFRESH-INTERVAL:P3D
CALSCALE:GREGORIAN
BEGIN:VEVENT
DTSTART:20220312T150000Z
DTEND:20220312T163000Z
X-MICROSOFT-CDO-ALLDAYEVENT:FALSE
SUMMARY:2nd Saturday Veterans Free Coffee & Donuts
DESCRIPTION:Enjoy coffee\, doughnuts and conversation this Saturday at the No. 1 British Flying Training School Museum in Terrell. This event was organized by local residents Margaret Briggs and Rosi Juarez to honor veterans for their service to the country.
X-ALT-DESC;FMTTYPE=text/html:<span style="color: rgb(5\, 5\, 5)\; font-family: &quot\;Segoe UI Historic&quot\;\, &quot\;Segoe UI&quot\;\, Helvetica\, Arial\, sans-serif\; font-size: 15px\; white-space: pre-wrap\;">Enjoy coffee\, doughnuts and conversation this Saturday at the No. 1 British Flying Training School Museum in Terrell. This event was organized by local residents Margaret Briggs and Rosi Juarez to honor veterans for their service to the country. </span>
LOCATION:No. 1 British Flying Training School Museum\, Inc 119 Silent Wings Blvd
UID:e.3613.5062659
SEQUENCE:3
DTSTAMP:20260422T135519Z
URL:https://business.terrelltexas.com/events/details/2nd-saturday-veterans-free-coffee-donuts-5062659
END:VEVENT

END:VCALENDAR
